BEGIN:VCALENDAR
VERSION:2.0
PRODID:-//wp-events-plugin.com//7.2.3.1//EN
BEGIN:VEVENT
UID:133@tobaccocontrolnetwork.org
DTSTART;TZID=America/New_York:20260623T000000
DTEND;TZID=America/New_York:20260625T000000
DTSTAMP:20251117T021929Z
URL:https://tobaccocontrolnetwork.org/events/tobacco-treatment-specialist-
 training-4/
SUMMARY:Tobacco Treatment Specialist Training
DESCRIPTION:Since 2005\, The Mayo Clinic Tobacco Treatment Specialist Certi
 fication Training has trained over 4\,000 professionals to treat tobacco 
 dependence. This training is an accredited program that includes online le
 arning\, and a three-day livestream training focused on the skills needed 
 to treat tobacco dependence effectively. The course accommodates different
  learning styles and offers a flexible schedule during the online componen
 t. This training prepares learners for national certification if they choo
 se to pursue it. Learners who complete the training and complete 240 pract
 ice hours receive the Mayo Clinic Tobacco Treatment Specialist Certificati
 on.
END:VEVENT
BEGIN:VTIMEZONE
TZID:America/New_York
X-LIC-LOCATION:America/New_York
BEGIN:DAYLIGHT
DTSTART:20260308T030000
TZOFFSETFROM:-0500
TZOFFSETTO:-0400
TZNAME:EDT
END:DAYLIGHT
END:VTIMEZONE
END:VCALENDAR