BEGIN:VCALENDAR
VERSION:2.0
PRODID:-//wp-events-plugin.com//7.2.3.1//EN
BEGIN:VEVENT
UID:138@tobaccocontrolnetwork.org
DTSTART;TZID=America/New_York:20260504T000000
DTEND;TZID=America/New_York:20260505T000000
DTSTAMP:20260210T175000Z
URL:https://tobaccocontrolnetwork.org/events/rutgers-tobacco-treatment-spe
 cialist-training/
SUMMARY:Rutgers Tobacco Treatment Specialist Training
DESCRIPTION:The Tobacco Dependence Program (TDP) is dedicated to reducing 
 the harm to health caused by tobacco use. The TDP particularly aims to pro
 vide expertise on quitting smoking for those who need it most. We do this 
 through education\, treatment\, research and advocacy. Rutgers-Tobacco Dep
 endence Program’s TTS Training is one of a select group of ATTUD Accredi
 ted training programs offered
END:VEVENT
BEGIN:VTIMEZONE
TZID:America/New_York
X-LIC-LOCATION:America/New_York
BEGIN:DAYLIGHT
DTSTART:20260308T030000
TZOFFSETFROM:-0500
TZOFFSETTO:-0400
TZNAME:EDT
END:DAYLIGHT
END:VTIMEZONE
END:VCALENDAR