BEGIN:VCALENDAR
VERSION:2.0
PRODID:-//wp-events-plugin.com//7.2.3.1//EN
BEGIN:VEVENT
UID:135@tobaccocontrolnetwork.org
DTSTART;TZID=America/New_York:20261103T000000
DTEND;TZID=America/New_York:20261105T000000
DTSTAMP:20251117T022151Z
URL:https://tobaccocontrolnetwork.org/events/mayo-clinic-virtual-training/
SUMMARY:Mayo Clinic Virtual Training
DESCRIPTION:Since 2005\, The Mayo Clinic Tobacco Treatment Specialist Certi
 fication Training has trained over 4\,000 professionals to treat tobacco 
 dependence. This training is an accredited program that includes online le
 arning\, and a three-day livestream training focused on the skills needed 
 to treat tobacco dependence effectively. The course accommodates different
  learning styles and offers a flexible schedule during the online componen
 t. This training prepares learners for national certification if they choo
 se to pursue it. Learners who complete the training and complete 240 pract
 ice hours receive the Mayo Clinic Tobacco Treatment Specialist Certificati
 on.
END:VEVENT
BEGIN:VTIMEZONE
TZID:America/New_York
X-LIC-LOCATION:America/New_York
BEGIN:STANDARD
DTSTART:20261101T010000
TZOFFSETFROM:-0400
TZOFFSETTO:-0500
TZNAME:EST
END:STANDARD
END:VTIMEZONE
END:VCALENDAR