BEGIN:VCALENDAR
VERSION:2.0
PRODID:-//wp-events-plugin.com//7.2.3.1//EN
BEGIN:VEVENT
UID:132@tobaccocontrolnetwork.org
DTSTART;TZID=America/New_York:20260504T000000
DTEND;TZID=America/New_York:20260506T000000
DTSTAMP:20251117T021634Z
URL:https://tobaccocontrolnetwork.org/events/champions-for-youth-summit-2/
SUMMARY:Champions for Youth Summit
DESCRIPTION:Join the Virginia Foundation for Healthy Youth (VFHY) and Preve
 ntion Connections (PC) at the third Champions for Youth Summit on May 4-6
 \, 2026!\n\nThis dynamic event brings together hundreds of professionals f
 rom across the country who are dedicated to improving the health and well-
 being of youth and young adults.\n\nAttendees will explore innovative stra
 tegies and best practices addressing critical issues such as tobacco and n
 icotine use\, substance use\, childhood obesity\, and other intersecting y
 outh health challenges.\n\n&nbsp\;
END:VEVENT
BEGIN:VTIMEZONE
TZID:America/New_York
X-LIC-LOCATION:America/New_York
BEGIN:DAYLIGHT
DTSTART:20260308T030000
TZOFFSETFROM:-0500
TZOFFSETTO:-0400
TZNAME:EDT
END:DAYLIGHT
END:VTIMEZONE
END:VCALENDAR